BEGIN:VCALENDAR
VERSION:2.0
PRODID:-//Camposol Online - ECPv4.7.4//NONSGML v1.0//EN
CALSCALE:GREGORIAN
METHOD:PUBLISH
X-WR-CALNAME:Camposol Online
X-ORIGINAL-URL:http://camposolonline.com
X-WR-CALDESC:Events for Camposol Online
BEGIN:VEVENT
DTSTART;TZID=Europe/Madrid:20171028T210000
DTEND;TZID=Europe/Madrid:20171028T210000
DTSTAMP:20260423T181342
CREATED:20171002T102808Z
LAST-MODIFIED:20171002T102808Z
UID:3908-1509224400-1509224400@camposolonline.com
SUMMARY:Rick Hadley @ Bar Med
DESCRIPTION:Rick Hadley is performing at Bar Med on Saturday\, 28th October 2017. \n\n\n	Related\n
URL:http://camposolonline.com/event/rick-hadley-bar-med-281017/
LOCATION:Bar Med\, Avenida de Cabo Cope\, El Alamillo\, Puerto de Mazarrón\, 30860 Mazarrón\, Murcia\, Spain
END:VEVENT
END:VCALENDAR