BEGIN:VCALENDAR
VERSION:2.0
PRODID:-//Camposol Online - ECPv4.7.4//NONSGML v1.0//EN
CALSCALE:GREGORIAN
METHOD:PUBLISH
X-WR-CALNAME:Camposol Online
X-ORIGINAL-URL:http://camposolonline.com
X-WR-CALDESC:Events for Camposol Online
BEGIN:VEVENT
DTSTART;TZID=Europe/Madrid:20171013T213000
DTEND;TZID=Europe/Madrid:20171013T213000
DTSTAMP:20260423T192806
CREATED:20171013T064034Z
LAST-MODIFIED:20171013T064034Z
UID:4329-1507930200-1507930200@camposolonline.com
SUMMARY:Rock on Road @ Oscar’s Bar
DESCRIPTION:Rock on Road are performing at Oscar’s Bar on 13th November 2017.  \n\n\n	Related\n
URL:http://camposolonline.com/event/rock-road-oscars-bar-131017/
LOCATION:Oscar’s Bar\, Centro Comercial\, Urbanización Camposol Sector B\, El Saladillo\, 30875 Mazarrón\, Murcia\, Spain
END:VEVENT
END:VCALENDAR