BEGIN:VCALENDAR
VERSION:2.0
PRODID:-//Camposol Online - ECPv4.7.4//NONSGML v1.0//EN
CALSCALE:GREGORIAN
METHOD:PUBLISH
X-WR-CALNAME:Camposol Online
X-ORIGINAL-URL:http://camposolonline.com
X-WR-CALDESC:Events for Camposol Online
BEGIN:VEVENT
DTSTART;TZID=UTC:20171004T193000
DTEND;TZID=UTC:20171004T193000
DTSTAMP:20260423T164924
CREATED:20170804T030505Z
LAST-MODIFIED:20170808T174551Z
UID:2127-1507145400-1507145400@camposolonline.com
SUMMARY:Sector D's End of Summer Ball @ Hotel La Cumbre
DESCRIPTION:Celebrate the end of summer in style at Hotel La Cumbre with Camposol’s Sector D community. \nIncluded in the ticket price is coach travel to and from the hotel\, a three-course meal\, all the wine\, beer or water you can drink until dessert is served and entertainment by duo Timewarp. \nTickets cost 35€ and can be purchased my emailing Sector D’s social secretary. \n\n\n	Related\n
URL:http://camposolonline.com/event/sector-ds-end-summer-ball/
LOCATION:Hotel La Cumbre\, Urbanización La Cumbre S/N\, Puerto de Mazarrón\, 30860 Mazarrón\, Murcia\, Spain
END:VEVENT
END:VCALENDAR