BEGIN:VCALENDAR
VERSION:2.0
PRODID:-//Camposol Online - ECPv4.7.4//NONSGML v1.0//EN
CALSCALE:GREGORIAN
METHOD:PUBLISH
X-WR-CALNAME:Camposol Online
X-ORIGINAL-URL:http://camposolonline.com
X-WR-CALDESC:Events for Camposol Online
BEGIN:VEVENT
DTSTART;TZID=Europe/Madrid:20171208T210000
DTEND;TZID=Europe/Madrid:20171208T210000
DTSTAMP:20260424T000502
CREATED:20171022T144336Z
LAST-MODIFIED:20171022T144336Z
UID:4456-1512766800-1512766800@camposolonline.com
SUMMARY:Shirley Bassey Tribute @ The Condado Club
DESCRIPTION:There’s a Shirley Bassey tribute at The Condado Club on 8th December 2017 from 21:00. \n\n\n	Related\n
URL:http://camposolonline.com/event/shirley-bassey-tribute-condado-club-081217/
LOCATION:The Condado Club\, Condado de Alhama\, Carretera de Mazarrón\, km 33\, 30840 Alhama de Murcia\, Murcia\, Spain
END:VEVENT
END:VCALENDAR