BEGIN:VCALENDAR
VERSION:2.0
PRODID:-//Camposol Online - ECPv4.7.4//NONSGML v1.0//EN
CALSCALE:GREGORIAN
METHOD:PUBLISH
X-WR-CALNAME:Camposol Online
X-ORIGINAL-URL:http://camposolonline.com
X-WR-CALDESC:Events for Camposol Online
BEGIN:VEVENT
DTSTART;TZID=Europe/Madrid:20180208T140000
DTEND;TZID=Europe/Madrid:20180208T140000
DTSTAMP:20260424T220438
CREATED:20171209T065439Z
LAST-MODIFIED:20171209T065439Z
UID:5352-1518098400-1518098400@camposolonline.com
SUMMARY:Shirley Bassey Tribute @ Mazarrón Country Club
DESCRIPTION:Mazarrón Country Club Events Group have organised a tribute to Shirley Bassey at Mazarrón Country Club on 8th February 2018 from 14:00. \nTickets cost 12 euros for members and 13.50 euros for non-members\, and include vegetable soup\, followed by chicken and chips or fish and chips. \nCall Tony on 968 956 418\, Vivien on 968 956 050 for tickets\, or visit the knitting club in the main building on Wednesdays between 14:00 and 16:00. \n\n\n	Related\n
URL:http://camposolonline.com/event/shirley-bassey-tribute-mazarron-country-club-080218/
LOCATION:Mazarrón Country Club\, 30879 Mazarrón\, Murcia\, Spain
END:VEVENT
END:VCALENDAR