BEGIN:VCALENDAR
VERSION:2.0
PRODID:-//Camposol Online - ECPv4.7.4//NONSGML v1.0//EN
CALSCALE:GREGORIAN
METHOD:PUBLISH
X-WR-CALNAME:Camposol Online
X-ORIGINAL-URL:http://camposolonline.com
X-WR-CALDESC:Events for Camposol Online
BEGIN:VEVENT
DTSTART;TZID=Europe/Madrid:20180107T150000
DTEND;TZID=Europe/Madrid:20180107T150000
DTSTAMP:20260424T072917
CREATED:20180103T064005Z
LAST-MODIFIED:20180103T064239Z
UID:5519-1515337200-1515337200@camposolonline.com
SUMMARY:Soul Power @ The Blues House
DESCRIPTION:Soul Power are performing at The Blues House on 7th January 2018 from 15:00. \n\n\n	Related\n
URL:http://camposolonline.com/event/soul-power-blues-house-070118/
LOCATION:The Blues House\, Avenida Pedro López Meca 26\, Bolnuevo\, 30870 Mazarrón\, Murcia\, Spain
END:VEVENT
END:VCALENDAR