BEGIN:VCALENDAR
VERSION:2.0
PRODID:-//Camposol Online - ECPv4.7.4//NONSGML v1.0//EN
CALSCALE:GREGORIAN
METHOD:PUBLISH
X-WR-CALNAME:Camposol Online
X-ORIGINAL-URL:http://camposolonline.com
X-WR-CALDESC:Events for Camposol Online
BEGIN:VEVENT
DTSTART;TZID=Europe/Madrid:20171125T210000
DTEND;TZID=Europe/Madrid:20171125T210000
DTSTAMP:20260424T153812
CREATED:20171121T200751Z
LAST-MODIFIED:20171121T200826Z
UID:5049-1511643600-1511643600@camposolonline.com
SUMMARY:Steve Fisher @ Oscar’s Bar
DESCRIPTION:Steve Fisher is performing at Oscar’s Bar on 25th November 2017 from 21:00. \n\n\n	Related\n
URL:http://camposolonline.com/event/steve-fisher-oscars-bar-251117/
LOCATION:Oscar’s Bar\, Centro Comercial\, Urbanización Camposol Sector B\, El Saladillo\, 30875 Mazarrón\, Murcia\, Spain
END:VEVENT
END:VCALENDAR