BEGIN:VCALENDAR
VERSION:2.0
PRODID:-//Camposol Online - ECPv4.7.4//NONSGML v1.0//EN
CALSCALE:GREGORIAN
METHOD:PUBLISH
X-WR-CALNAME:Camposol Online
X-ORIGINAL-URL:http://camposolonline.com
X-WR-CALDESC:Events for Camposol Online
BEGIN:VEVENT
DTSTART;TZID=Europe/Madrid:20171021T210000
DTEND;TZID=Europe/Madrid:20171021T210000
DTSTAMP:20260424T055051
CREATED:20171002T102541Z
LAST-MODIFIED:20171002T102541Z
UID:3906-1508619600-1508619600@camposolonline.com
SUMMARY:Stevie Spit @ Bar Med
DESCRIPTION:Stevie Spit is performing at Bar Med on Saturday\, 21st October 2017. \n\n\n	Related\n
URL:http://camposolonline.com/event/stevie-spit-bar-med-211017/
LOCATION:Bar Med\, Avenida de Cabo Cope\, El Alamillo\, Puerto de Mazarrón\, 30860 Mazarrón\, Murcia\, Spain
END:VEVENT
END:VCALENDAR