BEGIN:VCALENDAR
VERSION:2.0
PRODID:-//Camposol Online - ECPv4.7.4//NONSGML v1.0//EN
CALSCALE:GREGORIAN
METHOD:PUBLISH
X-WR-CALNAME:Camposol Online
X-ORIGINAL-URL:http://camposolonline.com
X-WR-CALDESC:Events for Camposol Online
BEGIN:VEVENT
DTSTART;TZID=Europe/Madrid:20171112T150000
DTEND;TZID=Europe/Madrid:20171112T150000
DTSTAMP:20260423T223724
CREATED:20171104T070316Z
LAST-MODIFIED:20171104T070316Z
UID:4745-1510498800-1510498800@camposolonline.com
SUMMARY:The Streeters @ The Blues House
DESCRIPTION:The Streeters are performing at The Blues House on 12th November 2017 from 15:00. \n\n\n	Related\n
URL:http://camposolonline.com/event/streeters-blues-house-121117/
LOCATION:The Blues House\, Avenida Pedro López Meca 26\, Bolnuevo\, 30870 Mazarrón\, Murcia\, Spain
END:VEVENT
END:VCALENDAR