BEGIN:VCALENDAR
VERSION:2.0
PRODID:-//Camposol Online - ECPv4.7.4//NONSGML v1.0//EN
CALSCALE:GREGORIAN
METHOD:PUBLISH
X-WR-CALNAME:Camposol Online
X-ORIGINAL-URL:http://camposolonline.com
X-WR-CALDESC:Events for Camposol Online
BEGIN:VEVENT
DTSTART;TZID=UTC:20170804T210000
DTEND;TZID=UTC:20170804T210000
DTSTAMP:20260423T221433
CREATED:20170804T041501Z
LAST-MODIFIED:20170808T125859Z
UID:2140-1501880400-1501880400@camposolonline.com
SUMMARY:Paul Christie @ The Camposol Triangle
DESCRIPTION: \nAlley Palais Family Entertainment Centre\, Bar Salud\, Ocean Fish Bar\, Rudy’s and Trevi bring you The Camposol Triangle at 21:00 every Tuesday\, Thursday and Friday until mid-September\, hosting live music by some of the best vocalists and entertainers in Spain.  \nPerforming on The Camposol Triangle on 4th August 2017 is Paul Christie. \n\n\n	Related\n
URL:http://camposolonline.com/event/the-camposol-triangle-040817/
LOCATION:Centro Comercial\, Urbanización Camposol Sector B\, El Saladillo\, 30875 Mazarrón\, Murcia\, Spain
END:VEVENT
END:VCALENDAR