BEGIN:VCALENDAR
VERSION:2.0
PRODID:-//Camposol Online - ECPv4.7.4//NONSGML v1.0//EN
CALSCALE:GREGORIAN
METHOD:PUBLISH
X-WR-CALNAME:Camposol Online
X-ORIGINAL-URL:http://camposolonline.com
X-WR-CALDESC:Events for Camposol Online
BEGIN:VEVENT
DTSTART;TZID=Europe/Madrid:20171116T213000
DTEND;TZID=Europe/Madrid:20171116T213000
DTSTAMP:20260424T000343
CREATED:20171104T063947Z
LAST-MODIFIED:20171104T063947Z
UID:4713-1510867800-1510867800@camposolonline.com
SUMMARY:Thursday Evening Jam Night @ The Club House
DESCRIPTION:It’s Thursday Evening Jam Night at The Club House every Thursday from 21:30. \n\n\n	Related\n
URL:http://camposolonline.com/event/thursday-evening-jam-night-club-house-161117/
LOCATION:The Club House\, Camposol Club de Golf\, Urbanización Camposol Sector C\, El Saladillo\, 30875 Mazarrón\, Murcia\, Spain
END:VEVENT
END:VCALENDAR