BEGIN:VCALENDAR
VERSION:2.0
PRODID:-//Camposol Online - ECPv4.7.4//NONSGML v1.0//EN
CALSCALE:GREGORIAN
METHOD:PUBLISH
X-WR-CALNAME:Camposol Online
X-ORIGINAL-URL:http://camposolonline.com
X-WR-CALDESC:Events for Camposol Online
BEGIN:VEVENT
DTSTART;TZID=Europe/Madrid:20171004T210000
DTEND;TZID=Europe/Madrid:20171004T210000
DTSTAMP:20260423T180812
CREATED:20171002T194246Z
LAST-MODIFIED:20171002T194246Z
UID:3916-1507150800-1507150800@camposolonline.com
SUMMARY:VJK @ Bar Med
DESCRIPTION:VJK of The Gillettes is performing at Bar Med on Wednesday\, 4th October 2017. \n\n\n	Related\n
URL:http://camposolonline.com/event/vjk-bar-med-041017/
LOCATION:Bar Med\, Avenida de Cabo Cope\, El Alamillo\, Puerto de Mazarrón\, 30860 Mazarrón\, Murcia\, Spain
END:VEVENT
END:VCALENDAR