BEGIN:VCALENDAR
VERSION:2.0
PRODID:-//Camposol Online - ECPv4.7.4//NONSGML v1.0//EN
CALSCALE:GREGORIAN
METHOD:PUBLISH
X-WR-CALNAME:Camposol Online
X-ORIGINAL-URL:http://camposolonline.com
X-WR-CALDESC:Events for Camposol Online
BEGIN:VEVENT
DTSTART;TZID=Europe/Madrid:20171206T193000
DTEND;TZID=Europe/Madrid:20171206T193000
DTSTAMP:20260423T171555
CREATED:20171003T202824Z
LAST-MODIFIED:20171003T203005Z
UID:4034-1512588600-1512588600@camposolonline.com
SUMMARY:Welcome Group's Christmas Party @ Mesón Mariano
DESCRIPTION:Welcome Group are hosting a Christmas party at Mesón Mariano on 6th December 2017 from 19:30. There will be live music by Showaddywaddy Legends and Angie McKay. \nTickets cost 12 euro and are available from the group’s meetings\, by calling Steve on 697 960 590 or by emailing welcomegroupspain@yahoo.com \n\n\n	Related\n
URL:http://camposolonline.com/event/welcome-group-christmas-party-meson-mariano-061217/
LOCATION:Mesón Mariano\, Calle Madrid S/N\, Urbanización Camposol Sector A\, El Saladillo\, 30875 Mazarrón\, Murcia\, Spain
END:VEVENT
END:VCALENDAR