BEGIN:VCALENDAR
VERSION:2.0
PRODID:-//Camposol Online - ECPv4.7.4//NONSGML v1.0//EN
CALSCALE:GREGORIAN
METHOD:PUBLISH
X-WR-CALNAME:Camposol Online
X-ORIGINAL-URL:http://camposolonline.com
X-WR-CALDESC:Events for Camposol Online
BEGIN:VEVENT
DTSTART;TZID=Europe/Madrid:20180113T210000
DTEND;TZID=Europe/Madrid:20180113T210000
DTSTAMP:20260423T195546
CREATED:20180112T074352Z
LAST-MODIFIED:20180112T074352Z
UID:5756-1515877200-1515877200@camposolonline.com
SUMMARY:Woody @ The Club House
DESCRIPTION:Woody is performing at The Club House on 13th January 2018 from 21:00. \n\n\n	Related\n
URL:http://camposolonline.com/event/woody-club-house/
LOCATION:The Club House\, Camposol Club de Golf\, Urbanización Camposol Sector C\, El Saladillo\, 30875 Mazarrón\, Murcia\, Spain
END:VEVENT
END:VCALENDAR